BEGIN:VCALENDAR
VERSION:2.0
PRODID:-//Prestige Safety Services - ECPv6.15.17.1//NONSGML v1.0//EN
CALSCALE:GREGORIAN
METHOD:PUBLISH
X-ORIGINAL-URL:https://prestigesafetyservices.com
X-WR-CALDESC:Events for Prestige Safety Services
REFRESH-INTERVAL;VALUE=DURATION:PT1H
X-Robots-Tag:noindex
X-PUBLISHED-TTL:PT1H
BEGIN:VTIMEZONE
TZID:UTC
BEGIN:STANDARD
TZOFFSETFROM:+0000
TZOFFSETTO:+0000
TZNAME:UTC
DTSTART:20250101T000000
END:STANDARD
END:VTIMEZONE
BEGIN:VEVENT
DTSTART;TZID=UTC:20260505T093000
DTEND;TZID=UTC:20260505T123000
DTSTAMP:20260420T205843
CREATED:20260113T102049Z
LAST-MODIFIED:20260113T102049Z
UID:3579-1777973400-1777984200@prestigesafetyservices.com
SUMMARY:Working at Height Training - Level 2
DESCRIPTION:Learners will develop a basic awareness of working at height \, focusing on the key principles such as: safety considerations\, legal obligations\, hierarchy of control measures\, reporting procedures for defective equipment and much more. \n\n\n\n\n  \nThe working at height courses are ideal for those who work\, or are aspiring to work in environments that involve safe working at height\, such as building and construction workers\, agricultural workers\, factory and warehouse workers\, forestry workers and more.
URL:https://prestigesafetyservices.com/courses/working-at-height-training-level-2/
LOCATION:Prestige Safety Services\, The Gables Business Court\, Belton Road Doncaster\, South Yorkshire\, DN9 1JL\, United Kingdom
ATTACH;FMTTYPE=image/png:https://prestigesafetyservices.com/wp-content/uploads/2024/08/PSS_Icon_Heights.png
END:VEVENT
END:VCALENDAR