BEGIN:VCALENDAR
VERSION:2.0
PRODID:-//Prestige Safety Services - ECPv6.15.17.1//NONSGML v1.0//EN
CALSCALE:GREGORIAN
METHOD:PUBLISH
X-WR-CALNAME:Prestige Safety Services
X-ORIGINAL-URL:https://prestigesafetyservices.com
X-WR-CALDESC:Events for Prestige Safety Services
REFRESH-INTERVAL;VALUE=DURATION:PT1H
X-Robots-Tag:noindex
X-PUBLISHED-TTL:PT1H
BEGIN:VTIMEZONE
TZID:UTC
BEGIN:STANDARD
TZOFFSETFROM:+0000
TZOFFSETTO:+0000
TZNAME:UTC
DTSTART:20230101T000000
END:STANDARD
END:VTIMEZONE
BEGIN:VEVENT
DTSTART;TZID=UTC:20241212T093000
DTEND;TZID=UTC:20241212T163000
DTSTAMP:20260421T133115
CREATED:20230816T123621Z
LAST-MODIFIED:20240109T122807Z
UID:2771-1733995800-1734021000@prestigesafetyservices.com
SUMMARY:Emergency Paediatric First Aid Training - Level 3
DESCRIPTION:During this 1 day course\, Learners will develop the skills and knowledge needed to deal with a range of paediatric first aid situations\, including: managing an unresponsive infant or child\, CPR\, choking\, seizures\, external bleeding and more. \n  \n£120.00 (inclusive of VAT)
URL:https://prestigesafetyservices.com/courses/emergency-paediatric-first-aid-training-level-3-13/
LOCATION:Prestige Safety Services\, The Gables Business Court\, Belton Road Doncaster\, South Yorkshire\, DN9 1JL\, United Kingdom
CATEGORIES:Paediatric First Aid
ATTACH;FMTTYPE=image/png:https://prestigesafetyservices.com/wp-content/uploads/2022/02/Paediatric-First-Aid-200px-e1644593112623.png
END:VEVENT
END:VCALENDAR