BEGIN:VCALENDAR
VERSION:2.0
PRODID:-//Prestige Safety Services - ECPv6.15.17.1//NONSGML v1.0//EN
CALSCALE:GREGORIAN
METHOD:PUBLISH
X-WR-CALNAME:Prestige Safety Services
X-ORIGINAL-URL:https://prestigesafetyservices.com
X-WR-CALDESC:Events for Prestige Safety Services
REFRESH-INTERVAL;VALUE=DURATION:PT1H
X-Robots-Tag:noindex
X-PUBLISHED-TTL:PT1H
BEGIN:VTIMEZONE
TZID:UTC
BEGIN:STANDARD
TZOFFSETFROM:+0000
TZOFFSETTO:+0000
TZNAME:UTC
DTSTART:20240101T000000
END:STANDARD
END:VTIMEZONE
BEGIN:VEVENT
DTSTART;TZID=UTC:20251016T093000
DTEND;TZID=UTC:20251016T163000
DTSTAMP:20260421T003309
CREATED:20241028T162720Z
LAST-MODIFIED:20250915T140830Z
UID:3089-1760607000-1760632200@prestigesafetyservices.com
SUMMARY:Emergency First Aid at Work Training – Level 3
DESCRIPTION:  \n  \nDuring this 1 day course\, learners will develop the skills and knowledge needed to deal with a range of emergency first aid situations\, including: managing an unresponsive casualty\, CPR\, choking\, shock\, wounds and bleeding and minor injuries. \n  \n£120.00 (inclusive of VAT) \n  \n \n 
URL:https://prestigesafetyservices.com/courses/emergency-first-aid-at-work-training-level-3-55/
LOCATION:Prestige Safety Services\, The Gables Business Court\, Belton Road Doncaster\, South Yorkshire\, DN9 1JL\, United Kingdom
CATEGORIES:Emergency First Aid - Level 3
ATTACH;FMTTYPE=image/png:https://prestigesafetyservices.com/wp-content/uploads/2024/09/First-Aid-Training-.png
ORGANIZER;CN="Prestige Safety Services":MAILTO:info@prestigesafetyservices.com
END:VEVENT
END:VCALENDAR