BEGIN:VCALENDAR
VERSION:2.0
PRODID:-//Prestige Safety Services - ECPv6.15.17.1//NONSGML v1.0//EN
CALSCALE:GREGORIAN
METHOD:PUBLISH
X-ORIGINAL-URL:https://prestigesafetyservices.com
X-WR-CALDESC:Events for Prestige Safety Services
REFRESH-INTERVAL;VALUE=DURATION:PT1H
X-Robots-Tag:noindex
X-PUBLISHED-TTL:PT1H
BEGIN:VTIMEZONE
TZID:UTC
BEGIN:STANDARD
TZOFFSETFROM:+0000
TZOFFSETTO:+0000
TZNAME:UTC
DTSTART:20210101T000000
END:STANDARD
END:VTIMEZONE
BEGIN:VEVENT
DTSTART;TZID=UTC:20260327T093000
DTEND;TZID=UTC:20260327T123000
DTSTAMP:20260420T180650
CREATED:20251107T113038Z
LAST-MODIFIED:20260324T150750Z
UID:3500-1774603800-1774614600@prestigesafetyservices.com
SUMMARY:Fire Safety Awareness Training – Level 1
DESCRIPTION:Over a half day period\, Learners will learn basic fire safety principles\, including: causes of fires in the workplace\, basic fire safety duties and responsibilities\, principles of fire risk control\, safe use of portable fire-fighting equipment and more. \nThis regulated and nationally recognised qualification provides Learners with the opportunity to develop their fire safety awareness to help ensure that they are keeping themselves and others safe at all times in the workplace. \nIntended Audience \nThe Level 1 Award in Fire Safety Awareness (QCF) qualification is designed for those who want to increase their awareness of fire safety in the workplace. \n  \n£84.00 (inclusive of VAT) \n 
URL:https://prestigesafetyservices.com/courses/fire-safety-awareness-training-level-1-14/
LOCATION:Prestige Safety Services\, The Gables Business Court\, Belton Road Doncaster\, South Yorkshire\, DN9 1JL\, United Kingdom
CATEGORIES:Fire Safety Awareness
ATTACH;FMTTYPE=image/jpeg:https://prestigesafetyservices.com/wp-content/uploads/2024/09/fire-safety.jpg
ORGANIZER;CN="Prestige Safety Services":MAILTO:info@prestigesafetyservices.com
END:VEVENT
BEGIN:VEVENT
DTSTART;TZID=UTC:20260130T093000
DTEND;TZID=UTC:20260130T123000
DTSTAMP:20260420T180650
CREATED:20251107T093411Z
LAST-MODIFIED:20260119T102359Z
UID:3485-1769765400-1769776200@prestigesafetyservices.com
SUMMARY:Fire Safety Awareness Training – Level 1
DESCRIPTION:Over a half day period\, Learners will learn basic fire safety principles\, including: causes of fires in the workplace\, basic fire safety duties and responsibilities\, principles of fire risk control\, safe use of portable fire-fighting equipment and more. This regulated and nationally recognised qualification provides Learners with the opportunity to develop their fire safety awareness… \n\n£84.00
URL:https://prestigesafetyservices.com/courses/emergency-first-aid-at-work-training-level-3-54/
LOCATION:Prestige Safety Services\, The Gables Business Court\, Belton Road Doncaster\, South Yorkshire\, DN9 1JL\, United Kingdom
CATEGORIES:Fire Safety Awareness
ATTACH;FMTTYPE=image/jpeg:https://prestigesafetyservices.com/wp-content/uploads/2024/09/fire-safety.jpg
ORGANIZER;CN="Prestige Safety Services":MAILTO:info@prestigesafetyservices.com
END:VEVENT
BEGIN:VEVENT
DTSTART;TZID=UTC:20251205T093000
DTEND;TZID=UTC:20251205T123000
DTSTAMP:20260420T180650
CREATED:20241111T161629Z
LAST-MODIFIED:20251027T103935Z
UID:3142-1764927000-1764937800@prestigesafetyservices.com
SUMMARY:Fire Safety Awareness Training - Level 1
DESCRIPTION:Over a half day period\, Learners will learn basic fire safety principles\, including: causes of fires in the workplace\, basic fire safety duties and responsibilities\, principles of fire risk control\, safe use of portable fire-fighting equipment and more. \nThis regulated and nationally recognised qualification provides Learners with the opportunity to develop their fire safety awareness to help ensure that they are keeping themselves and others safe at all times in the workplace. \nIntended Audience \nThe Level 1 Award in Fire Safety Awareness (QCF) qualification is designed for those who want to increase their awareness of fire safety in the workplace. \n  \n£84.00 (inclusive of VAT) \n  \n \n 
URL:https://prestigesafetyservices.com/courses/fire-safety-awareness-training-level-1-16/
LOCATION:Prestige Safety Services\, The Gables Business Court\, Belton Road Doncaster\, South Yorkshire\, DN9 1JL\, United Kingdom
CATEGORIES:Fire Safety Awareness
ATTACH;FMTTYPE=image/jpeg:https://prestigesafetyservices.com/wp-content/uploads/2024/09/fire-safety.jpg
ORGANIZER;CN="Prestige Safety Services":MAILTO:info@prestigesafetyservices.com
END:VEVENT
BEGIN:VEVENT
DTSTART;TZID=UTC:20251114T093000
DTEND;TZID=UTC:20251114T123000
DTSTAMP:20260420T180650
CREATED:20241028T164156Z
LAST-MODIFIED:20241212T133220Z
UID:3096-1763112600-1763123400@prestigesafetyservices.com
SUMMARY:Fire Safety Awareness Training – Level 1
DESCRIPTION:Over a half day period\, Learners will learn basic fire safety principles\, including: causes of fires in the workplace\, basic fire safety duties and responsibilities\, principles of fire risk control\, safe use of portable fire-fighting equipment and more. \nThis regulated and nationally recognised qualification provides Learners with the opportunity to develop their fire safety awareness to help ensure that they are keeping themselves and others safe at all times in the workplace. \nIntended Audience \nThe Level 1 Award in Fire Safety Awareness (QCF) qualification is designed for those who want to increase their awareness of fire safety in the workplace. \n  \n£84.00 (inclusive of VAT)
URL:https://prestigesafetyservices.com/courses/fire-safety-awareness-training-level-1-11/
LOCATION:Prestige Safety Services\, The Gables Business Court\, Belton Road Doncaster\, South Yorkshire\, DN9 1JL\, United Kingdom
CATEGORIES:Fire Safety Awareness
ATTACH;FMTTYPE=image/jpeg:https://prestigesafetyservices.com/wp-content/uploads/2024/09/fire-safety.jpg
ORGANIZER;CN="Prestige Safety Services":MAILTO:info@prestigesafetyservices.com
END:VEVENT
BEGIN:VEVENT
DTSTART;TZID=UTC:20251024T093000
DTEND;TZID=UTC:20251024T123000
DTSTAMP:20260420T180650
CREATED:20241028T164950Z
LAST-MODIFIED:20241212T133134Z
UID:3102-1761298200-1761309000@prestigesafetyservices.com
SUMMARY:Fire Safety Awareness Training – Level 1
DESCRIPTION:Over a half day period\, Learners will learn basic fire safety principles\, including: causes of fires in the workplace\, basic fire safety duties and responsibilities\, principles of fire risk control\, safe use of portable fire-fighting equipment and more. \nThis regulated and nationally recognised qualification provides Learners with the opportunity to develop their fire safety awareness to help ensure that they are keeping themselves and others safe at all times in the workplace. \nIntended Audience \nThe Level 1 Award in Fire Safety Awareness (QCF) qualification is designed for those who want to increase their awareness of fire safety in the workplace. \n  \n£84.00 (inclusive of VAT)
URL:https://prestigesafetyservices.com/courses/fire-safety-awareness-training-level-1-12/
LOCATION:Prestige Safety Services\, The Gables Business Court\, Belton Road Doncaster\, South Yorkshire\, DN9 1JL\, United Kingdom
CATEGORIES:Fire Safety Awareness
ATTACH;FMTTYPE=image/jpeg:https://prestigesafetyservices.com/wp-content/uploads/2024/09/fire-safety.jpg
ORGANIZER;CN="Prestige Safety Services":MAILTO:info@prestigesafetyservices.com
END:VEVENT
BEGIN:VEVENT
DTSTART;TZID=UTC:20250829T093000
DTEND;TZID=UTC:20250829T123000
DTSTAMP:20260420T180650
CREATED:20241028T141759Z
LAST-MODIFIED:20250730T091606Z
UID:3061-1756459800-1756470600@prestigesafetyservices.com
SUMMARY:Fire Safety Awareness Training – Level 1
DESCRIPTION:Over a half day period\, Learners will learn basic fire safety principles\, including: causes of fires in the workplace\, basic fire safety duties and responsibilities\, principles of fire risk control\, safe use of portable fire-fighting equipment and more. \nThis regulated and nationally recognised qualification provides Learners with the opportunity to develop their fire safety awareness to help ensure that they are keeping themselves and others safe at all times in the workplace. \nIntended Audience \nThe Level 1 Award in Fire Safety Awareness (QCF) qualification is designed for those who want to increase their awareness of fire safety in the workplace. \n  \n£84.00 (inclusive of VAT)
URL:https://prestigesafetyservices.com/courses/fire-safety-awareness-training-level-1-9/
LOCATION:Prestige Safety Services\, The Gables Business Court\, Belton Road Doncaster\, South Yorkshire\, DN9 1JL\, United Kingdom
CATEGORIES:Fire Safety Awareness
ATTACH;FMTTYPE=image/jpeg:https://prestigesafetyservices.com/wp-content/uploads/2024/09/fire-safety.jpg
ORGANIZER;CN="Prestige Safety Services":MAILTO:info@prestigesafetyservices.com
END:VEVENT
BEGIN:VEVENT
DTSTART;TZID=UTC:20250725T093000
DTEND;TZID=UTC:20250725T123000
DTSTAMP:20260420T180650
CREATED:20241111T153948Z
LAST-MODIFIED:20241212T132647Z
UID:3125-1753435800-1753446600@prestigesafetyservices.com
SUMMARY:Fire Safety Awareness Training - Level 1
DESCRIPTION:Over a half day period\, Learners will learn basic fire safety principles\, including: causes of fires in the workplace\, basic fire safety duties and responsibilities\, principles of fire risk control\, safe use of portable fire-fighting equipment and more. \nThis regulated and nationally recognised qualification provides Learners with the opportunity to develop their fire safety awareness to help ensure that they are keeping themselves and others safe at all times in the workplace. \nIntended Audience \nThe Level 1 Award in Fire Safety Awareness (QCF) qualification is designed for those who want to increase their awareness of fire safety in the workplace. \n  \n£84.00 (inclusive of VAT) \n 
URL:https://prestigesafetyservices.com/courses/fire-safety-awareness-training-level-1-13/
LOCATION:Prestige Safety Services\, The Gables Business Court\, Belton Road Doncaster\, South Yorkshire\, DN9 1JL\, United Kingdom
CATEGORIES:Fire Safety Awareness
ATTACH;FMTTYPE=image/jpeg:https://prestigesafetyservices.com/wp-content/uploads/2024/09/fire-safety.jpg
ORGANIZER;CN="Prestige Safety Services":MAILTO:info@prestigesafetyservices.com
END:VEVENT
BEGIN:VEVENT
DTSTART;TZID=UTC:20250627T093000
DTEND;TZID=UTC:20250627T123000
DTSTAMP:20260420T180650
CREATED:20241111T152957Z
LAST-MODIFIED:20241212T132554Z
UID:3122-1751016600-1751027400@prestigesafetyservices.com
SUMMARY:Fire Safety Awareness Training - Level 1
DESCRIPTION:Over a half day period\, Learners will learn basic fire safety principles\, including: causes of fires in the workplace\, basic fire safety duties and responsibilities\, principles of fire risk control\, safe use of portable fire- fighting equipment and more. \nThis regulated and nationally recognised qualification provides learners with the opportunity to develop their fire safety awareness to help ensure that they are keeping themselves and others safe at all times in the workplace. \n  \nIntended Audience \nThe Level 1 Award in Fire Safety Awareness (QCF) qualification is designed for those who want to increase their awareness of fire safety in the workplace.
URL:https://prestigesafetyservices.com/courses/fire-safety-awareness-training-level-1-10/
LOCATION:Prestige Safety Services\, The Gables Business Court\, Belton Road Doncaster\, South Yorkshire\, DN9 1JL\, United Kingdom
CATEGORIES:Fire Safety Awareness
ATTACH;FMTTYPE=image/jpeg:https://prestigesafetyservices.com/wp-content/uploads/2024/09/fire-safety.jpg
ORGANIZER;CN="Prestige Safety Services":MAILTO:info@prestigesafetyservices.com
END:VEVENT
BEGIN:VEVENT
DTSTART;TZID=UTC:20250425T093000
DTEND;TZID=UTC:20250425T123000
DTSTAMP:20260420T180650
CREATED:20241024T151855Z
LAST-MODIFIED:20241212T132348Z
UID:3049-1745573400-1745584200@prestigesafetyservices.com
SUMMARY:Fire Safety Awareness Training – Level 1
DESCRIPTION:Over a half day period\, Learners will learn basic fire safety principles\, including: causes of fires in the workplace\, basic fire safety duties and responsibilities\, principles of fire risk control\, safe use of portable fire-fighting equipment and more. \nThis regulated and nationally recognised qualification provides Learners with the opportunity to develop their fire safety awareness to help ensure that they are keeping themselves and others safe at all times in the workplace. \nIntended Audience \nThe Level 1 Award in Fire Safety Awareness (QCF) qualification is designed for those who want to increase their awareness of fire safety in the workplace. \n  \n£84.00 (inclusive of VAT) \n \n 
URL:https://prestigesafetyservices.com/courses/fire-safety-awareness-training-level-1-8/
LOCATION:Prestige Safety Services\, The Gables Business Court\, Belton Road Doncaster\, South Yorkshire\, DN9 1JL\, United Kingdom
CATEGORIES:Fire Safety Awareness
ATTACH;FMTTYPE=image/jpeg:https://prestigesafetyservices.com/wp-content/uploads/2024/09/fire-safety.jpg
ORGANIZER;CN="Prestige Safety Services":MAILTO:info@prestigesafetyservices.com
END:VEVENT
BEGIN:VEVENT
DTSTART;TZID=UTC:20250314T093000
DTEND;TZID=UTC:20250314T123000
DTSTAMP:20260420T180650
CREATED:20240930T133014Z
LAST-MODIFIED:20241212T131413Z
UID:3008-1741944600-1741955400@prestigesafetyservices.com
SUMMARY:Fire Safety Awareness Training - Level 1
DESCRIPTION:Over a half day period\, Learners will learn basic fire safety principles\, including: causes of fires in the workplace\, basic fire safety duties and responsibilities\, principles of fire risk control\, safe use of portable fire-fighting equipment and more. \nThis regulated and nationally recognised qualification provides Learners with the opportunity to develop their fire safety awareness to help ensure that they are keeping themselves and others safe at all times in the workplace. \nIntended Audience \nThe Level 1 Award in Fire Safety Awareness (QCF) qualification is designed for those who want to increase their awareness of fire safety in the workplace. \n  \n£84.00 (inclusive of VAT)
URL:https://prestigesafetyservices.com/courses/fire-safety-awareness-training-level-1-5/
LOCATION:Prestige Safety Services\, The Gables Business Court\, Belton Road Doncaster\, South Yorkshire\, DN9 1JL\, United Kingdom
CATEGORIES:Fire Safety Awareness
ATTACH;FMTTYPE=image/jpeg:https://prestigesafetyservices.com/wp-content/uploads/2024/09/fire-safety.jpg
ORGANIZER;CN="Prestige Safety Services":MAILTO:info@prestigesafetyservices.com
END:VEVENT
BEGIN:VEVENT
DTSTART;TZID=UTC:20250228T093000
DTEND;TZID=UTC:20250228T123000
DTSTAMP:20260420T180650
CREATED:20240930T131950Z
LAST-MODIFIED:20250121T162000Z
UID:2999-1740735000-1740745800@prestigesafetyservices.com
SUMMARY:Fire Safety Awareness Training - Level 1
DESCRIPTION:Over a half day period\, Learners will learn basic fire safety principles\, including: causes of fires in the workplace\, basic fire safety duties and responsibilities\, principles of fire risk control\, safe use of portable fire-fighting equipment and more. \nThis regulated and nationally recognised qualification provides Learners with the opportunity to develop their fire safety awareness to help ensure that they are keeping themselves and others safe at all times in the workplace. \nIntended Audience \nThe Level 1 Award in Fire Safety Awareness (QCF) qualification is designed for those who want to increase their awareness of fire safety in the workplace. \n  \n£84.00 (inclusive of VAT)
URL:https://prestigesafetyservices.com/courses/fire-safety-awareness-training-level-1-4/
LOCATION:Prestige Safety Services\, The Gables Business Court\, Belton Road Doncaster\, South Yorkshire\, DN9 1JL\, United Kingdom
CATEGORIES:Fire Safety Awareness
ATTACH;FMTTYPE=image/jpeg:https://prestigesafetyservices.com/wp-content/uploads/2024/09/fire-safety.jpg
ORGANIZER;CN="Prestige Safety Services":MAILTO:info@prestigesafetyservices.com
END:VEVENT
BEGIN:VEVENT
DTSTART;TZID=UTC:20250124T093000
DTEND;TZID=UTC:20250124T123000
DTSTAMP:20260420T180650
CREATED:20240930T130754Z
LAST-MODIFIED:20241212T131357Z
UID:2990-1737711000-1737721800@prestigesafetyservices.com
SUMMARY:Fire Safety Awareness Training - Level 1
DESCRIPTION:Over a half day period\, Learners will learn basic fire safety principles\, including: causes of fires in the workplace\, basic fire safety duties and responsibilities\, principles of fire risk control\, safe use of portable fire-fighting equipment and more. \nThis regulated and nationally recognised qualification provides Learners with the opportunity to develop their fire safety awareness to help ensure that they are keeping themselves and others safe at all times in the workplace. \nIntended Audience \nThe Level 1 Award in Fire Safety Awareness (QCF) qualification is designed for those who want to increase their awareness of fire safety in the workplace. \n  \n£84.00 (inclusive of VAT) \n 
URL:https://prestigesafetyservices.com/courses/fire-safety-awareness-training-level-1-3/
LOCATION:Prestige Safety Services\, The Gables Business Court\, Belton Road Doncaster\, South Yorkshire\, DN9 1JL\, United Kingdom
CATEGORIES:Fire Safety Awareness
ATTACH;FMTTYPE=image/jpeg:https://prestigesafetyservices.com/wp-content/uploads/2024/09/fire-safety.jpg
ORGANIZER;CN="Prestige Safety Services":MAILTO:info@prestigesafetyservices.com
END:VEVENT
BEGIN:VEVENT
DTSTART;TZID=UTC:20230222T093000
DTEND;TZID=UTC:20230222T123000
DTSTAMP:20260420T180650
CREATED:20221021T102854Z
LAST-MODIFIED:20221021T120028Z
UID:2303-1677058200-1677069000@prestigesafetyservices.com
SUMMARY:Fire Safety Awareness - Level 1
DESCRIPTION:  \n  \n \nOver a half day period\, Learners will learn basic fire safety principles\, including: causes of fires in the workplace\, basic fire safety duties and responsibilities\, principles of fire risk control\, safe use of portable fire-fighting equipment and more.
URL:https://prestigesafetyservices.com/courses/fire-safety-awareness-level-1-2/
LOCATION:Prestige Safety Services\, The Gables Business Court\, Belton Road Doncaster\, South Yorkshire\, DN9 1JL\, United Kingdom
CATEGORIES:Fire Safety Awareness
ATTACH;FMTTYPE=image/png:https://prestigesafetyservices.com/wp-content/uploads/2021/12/Fire-Safety-Awareness-200px-e1639659412122.png
ORGANIZER;CN="Prestige Safety Services":MAILTO:info@prestigesafetyservices.com
END:VEVENT
BEGIN:VEVENT
DTSTART;TZID=UTC:20221010T130000
DTEND;TZID=UTC:20221010T160000
DTSTAMP:20260420T180650
CREATED:20220419T124046Z
LAST-MODIFIED:20220621T120750Z
UID:2172-1665406800-1665417600@prestigesafetyservices.com
SUMMARY:Fire Safety Awareness Training - Level 1
DESCRIPTION:Over a half day period\, learners will learn basic fire safety principles\, including :causes of fires in the workplace\, basic fire safety duties and responsibilities\, principles of fire risk control\, safe use of portable fire-fighting equipment and more.
URL:https://prestigesafetyservices.com/courses/fire-safety-awareness-training-level-1-2/
LOCATION:Prestige Safety Services\, The Gables Business Court\, Belton Road Doncaster\, South Yorkshire\, DN9 1JL\, United Kingdom
CATEGORIES:Fire Safety Awareness
ATTACH;FMTTYPE=image/png:https://prestigesafetyservices.com/wp-content/uploads/2021/12/Fire-Safety-Awareness-200px-e1639659412122.png
ORGANIZER;CN="Prestige Safety Services":MAILTO:info@prestigesafetyservices.com
END:VEVENT
BEGIN:VEVENT
DTSTART;TZID=UTC:20220209T093000
DTEND;TZID=UTC:20220209T123000
DTSTAMP:20260420T180650
CREATED:20211207T134657Z
LAST-MODIFIED:20211216T131949Z
UID:2045-1644399000-1644409800@prestigesafetyservices.com
SUMMARY:Fire Safety Awareness Training - Level 1
DESCRIPTION:Over a half day period\, learners will learn basic fire safety principles\, including: causes of fires in the workplace\, basic fire safety duties and responsibilities\, principles of fire risk control\, safe use of portable fire-fighting equipment and more.
URL:https://prestigesafetyservices.com/courses/fire-safety-awareness-training-level-1/
LOCATION:Prestige Safety Services\, The Gables Business Court\, Belton Road Doncaster\, South Yorkshire\, DN9 1JL\, United Kingdom
CATEGORIES:Fire Safety Awareness
ATTACH;FMTTYPE=image/png:https://prestigesafetyservices.com/wp-content/uploads/2021/12/Fire-Safety-Awareness-200px-e1639659412122.png
ORGANIZER;CN="Prestige Safety Services":MAILTO:info@prestigesafetyservices.com
END:VEVENT
END:VCALENDAR