BEGIN:VCALENDAR
VERSION:2.0
PRODID:-//Prestige Safety Services - ECPv6.15.17.1//NONSGML v1.0//EN
CALSCALE:GREGORIAN
METHOD:PUBLISH
X-WR-CALNAME:Prestige Safety Services
X-ORIGINAL-URL:https://prestigesafetyservices.com
X-WR-CALDESC:Events for Prestige Safety Services
REFRESH-INTERVAL;VALUE=DURATION:PT1H
X-Robots-Tag:noindex
X-PUBLISHED-TTL:PT1H
BEGIN:VTIMEZONE
TZID:UTC
BEGIN:STANDARD
TZOFFSETFROM:+0000
TZOFFSETTO:+0000
TZNAME:UTC
DTSTART:20250101T000000
END:STANDARD
END:VTIMEZONE
BEGIN:VEVENT
DTSTART;TZID=UTC:20260227T093000
DTEND;TZID=UTC:20260619T123000
DTSTAMP:20260424T082428
CREATED:20251107T111513Z
LAST-MODIFIED:20251210T152939Z
UID:3494-1772184600-1781872200@prestigesafetyservices.com
SUMMARY:Fire Safety Awareness Training – Level 1
DESCRIPTION:Over a half day period\, Learners will learn basic fire safety principles\, including: causes of fires in the workplace\, basic fire safety duties and responsibilities\, principles of fire risk control\, safe use of portable fire-fighting equipment and more. \nThis regulated and nationally recognised qualification provides Learners with the opportunity to develop their fire safety awareness to help ensure that they are keeping themselves and others safe at all times in the workplace. \nIntended Audience \nThe Level 1 Award in Fire Safety Awareness (QCF) qualification is designed for those who want to increase their awareness of fire safety in the workplace. \n  \n£84.00 (inclusive of VAT) \n 
URL:https://prestigesafetyservices.com/courses/fire-safety-awareness-training-level-1-6/
LOCATION:Prestige Safety Services\, The Gables Business Court\, Belton Road Doncaster\, South Yorkshire\, DN9 1JL\, United Kingdom
CATEGORIES:Fire Safety Awareness
ATTACH;FMTTYPE=image/jpeg:https://prestigesafetyservices.com/wp-content/uploads/2024/09/fire-safety.jpg
ORGANIZER;CN="Prestige Safety Services":MAILTO:info@prestigesafetyservices.com
END:VEVENT
BEGIN:VEVENT
DTSTART;TZID=UTC:20260424T093000
DTEND;TZID=UTC:20260424T123000
DTSTAMP:20260424T082428
CREATED:20251107T120132Z
LAST-MODIFIED:20260225T135512Z
UID:3506-1777023000-1777033800@prestigesafetyservices.com
SUMMARY:Fire Safety Awareness Training – Level 1
DESCRIPTION:Over a half day period\, Learners will learn basic fire safety principles\, including: causes of fires in the workplace\, basic fire safety duties and responsibilities\, principles of fire risk control\, safe use of portable fire-fighting equipment and more. \nThis regulated and nationally recognised qualification provides Learners with the opportunity to develop their fire safety awareness to help ensure that they are keeping themselves and others safe at all times in the workplace. \nIntended Audience \nThe Level 1 Award in Fire Safety Awareness (QCF) qualification is designed for those who want to increase their awareness of fire safety in the workplace. \n  \n£84.00 (inclusive of VAT) \n 
URL:https://prestigesafetyservices.com/courses/fire-safety-awareness-training-level-1-17/
LOCATION:Prestige Safety Services\, The Gables Business Court\, Belton Road Doncaster\, South Yorkshire\, DN9 1JL\, United Kingdom
CATEGORIES:Fire Safety Awareness
ATTACH;FMTTYPE=image/jpeg:https://prestigesafetyservices.com/wp-content/uploads/2024/09/fire-safety.jpg
ORGANIZER;CN="Prestige Safety Services":MAILTO:info@prestigesafetyservices.com
END:VEVENT
BEGIN:VEVENT
DTSTART;TZID=UTC:20260428T093000
DTEND;TZID=UTC:20260430T163000
DTSTAMP:20260424T082428
CREATED:20251209T114731Z
LAST-MODIFIED:20260331T090319Z
UID:3559-1777368600-1777566600@prestigesafetyservices.com
SUMMARY:First Aid at Work Training- Level 3
DESCRIPTION:Learners will develop the skills and knowledge needed to deal with a range of first aid situations including: assessing an incident\, managing an unresponsive casualty\, CPR\, heart attacks\, choking\, head and spinal injuries\, fractures\, anaphylaxis and more. \nThe First Aid at Work courses are regulated and nationally recognised qualifications\, specifically designed for those who are appointed to act as a first aider in the workplace. It is also ideal for people who have a specific responsibility to provide first aid in voluntary and community activities.
URL:https://prestigesafetyservices.com/courses/first-aid-at-work-training-level-3-2/
LOCATION:Prestige Safety Services\, The Gables Business Court\, Belton Road Doncaster\, South Yorkshire\, DN9 1JL\, United Kingdom
CATEGORIES:First Aid
ATTACH;FMTTYPE=image/png:https://prestigesafetyservices.com/wp-content/uploads/2024/09/First-Aid-Training-.png
ORGANIZER;CN="Prestige Safety Services":MAILTO:info@prestigesafetyservices.com
END:VEVENT
BEGIN:VEVENT
DTSTART;TZID=UTC:20260505T093000
DTEND;TZID=UTC:20260505T123000
DTSTAMP:20260424T082428
CREATED:20260113T102049Z
LAST-MODIFIED:20260113T102049Z
UID:3579-1777973400-1777984200@prestigesafetyservices.com
SUMMARY:Working at Height Training - Level 2
DESCRIPTION:Learners will develop a basic awareness of working at height \, focusing on the key principles such as: safety considerations\, legal obligations\, hierarchy of control measures\, reporting procedures for defective equipment and much more. \n\n\n\n\n  \nThe working at height courses are ideal for those who work\, or are aspiring to work in environments that involve safe working at height\, such as building and construction workers\, agricultural workers\, factory and warehouse workers\, forestry workers and more.
URL:https://prestigesafetyservices.com/courses/working-at-height-training-level-2/
LOCATION:Prestige Safety Services\, The Gables Business Court\, Belton Road Doncaster\, South Yorkshire\, DN9 1JL\, United Kingdom
ATTACH;FMTTYPE=image/png:https://prestigesafetyservices.com/wp-content/uploads/2024/08/PSS_Icon_Heights.png
END:VEVENT
BEGIN:VEVENT
DTSTART;TZID=UTC:20260512T093000
DTEND;TZID=UTC:20260512T163000
DTSTAMP:20260424T082428
CREATED:20251212T135803Z
LAST-MODIFIED:20251212T135803Z
UID:3569-1778578200-1778603400@prestigesafetyservices.com
SUMMARY:Emergency Paediatric First Aid Training – Level 3
DESCRIPTION:During this 1 day course\, Learners will develop the skills and knowledge needed to deal with a range of paediatric first aid situations\, including: managing an unresponsive infant or child\, CPR\, choking\, seizures\, external bleeding and more.
URL:https://prestigesafetyservices.com/courses/emergency-paediatric-first-aid-training-level-3-15/
LOCATION:Prestige Safety Services\, The Gables Business Court\, Belton Road Doncaster\, South Yorkshire\, DN9 1JL\, United Kingdom
ATTACH;FMTTYPE=image/jpeg:https://prestigesafetyservices.com/wp-content/uploads/2023/08/PSS_About-Us_Hero.jpg
ORGANIZER;CN="Prestige Safety Services":MAILTO:info@prestigesafetyservices.com
END:VEVENT
BEGIN:VEVENT
DTSTART;TZID=UTC:20260526T093000
DTEND;TZID=UTC:20260526T163000
DTSTAMP:20260424T082428
CREATED:20251107T121030Z
LAST-MODIFIED:20251107T121030Z
UID:3509-1779787800-1779813000@prestigesafetyservices.com
SUMMARY:Emergency First Aid at Work Training – Level 3
DESCRIPTION:During this 1 day course\, learners will develop the skills and knowledge needed to deal with a range of emergency first aid situations\, including: managing an unresponsive casualty\, CPR\, choking\, shock\, wounds and bleeding and minor injuries. £120.00 ( Inclusive of VAT). \n 
URL:https://prestigesafetyservices.com/courses/emergency-first-aid-at-work-training-level-3-62/
LOCATION:Prestige Safety Services\, The Gables Business Court\, Belton Road Doncaster\, South Yorkshire\, DN9 1JL\, United Kingdom
CATEGORIES:Emergency First Aid - Level 3
ATTACH;FMTTYPE=image/jpeg:https://prestigesafetyservices.com/wp-content/uploads/2024/09/FAW.jpg
ORGANIZER;CN="Prestige Safety Services":MAILTO:info@prestigesafetyservices.com
END:VEVENT
BEGIN:VEVENT
DTSTART;TZID=UTC:20260529T093000
DTEND;TZID=UTC:20260529T123000
DTSTAMP:20260424T082428
CREATED:20251107T121920Z
LAST-MODIFIED:20260205T151715Z
UID:3512-1780047000-1780057800@prestigesafetyservices.com
SUMMARY:Fire Safety Awareness Training – Level 1
DESCRIPTION:Over a half day period\, Learners will learn basic fire safety principles\, including: causes of fires in the workplace\, basic fire safety duties and responsibilities\, principles of fire risk control\, safe use of portable fire-fighting equipment and more. \nThis regulated and nationally recognised qualification provides Learners with the opportunity to develop their fire safety awareness to help ensure that they are keeping themselves and others safe at all times in the workplace. \nIntended Audience \nThe Level 1 Award in Fire Safety Awareness (QCF) qualification is designed for those who want to increase their awareness of fire safety in the workplace. \n  \n£84.00 (inclusive of VAT) \n 
URL:https://prestigesafetyservices.com/courses/fire-safety-awareness-training-level-1-18/
LOCATION:Prestige Safety Services\, The Gables Business Court\, Belton Road Doncaster\, South Yorkshire\, DN9 1JL\, United Kingdom
CATEGORIES:Fire Safety Awareness
ATTACH;FMTTYPE=image/jpeg:https://prestigesafetyservices.com/wp-content/uploads/2024/09/fire-safety.jpg
ORGANIZER;CN="Prestige Safety Services":MAILTO:info@prestigesafetyservices.com
END:VEVENT
BEGIN:VEVENT
DTSTART;TZID=UTC:20260626T093000
DTEND;TZID=UTC:20260626T123000
DTSTAMP:20260424T082428
CREATED:20251107T123225Z
LAST-MODIFIED:20251107T123225Z
UID:3518-1782466200-1782477000@prestigesafetyservices.com
SUMMARY:Fire Safety Awareness Training – Level 1
DESCRIPTION:Over a half day period\, Learners will learn basic fire safety principles\, including: causes of fires in the workplace\, basic fire safety duties and responsibilities\, principles of fire risk control\, safe use of portable fire-fighting equipment and more. \nThis regulated and nationally recognised qualification provides Learners with the opportunity to develop their fire safety awareness to help ensure that they are keeping themselves and others safe at all times in the workplace. \nIntended Audience \nThe Level 1 Award in Fire Safety Awareness (QCF) qualification is designed for those who want to increase their awareness of fire safety in the workplace. \n  \n£84.00 (inclusive of VAT) \n 
URL:https://prestigesafetyservices.com/courses/fire-safety-awareness-training-level-1-19/
LOCATION:Prestige Safety Services\, The Gables Business Court\, Belton Road Doncaster\, South Yorkshire\, DN9 1JL\, United Kingdom
CATEGORIES:Fire Safety Awareness
ATTACH;FMTTYPE=image/jpeg:https://prestigesafetyservices.com/wp-content/uploads/2024/09/fire-safety.jpg
ORGANIZER;CN="Prestige Safety Services":MAILTO:info@prestigesafetyservices.com
END:VEVENT
BEGIN:VEVENT
DTSTART;TZID=UTC:20260721T093000
DTEND;TZID=UTC:20260721T163000
DTSTAMP:20260424T082428
CREATED:20251107T123919Z
LAST-MODIFIED:20251107T123919Z
UID:3521-1784626200-1784651400@prestigesafetyservices.com
SUMMARY:Emergency First Aid at Work Training – Level 3
DESCRIPTION:During this 1 day course\, learners will develop the skills and knowledge needed to deal with a range of emergency first aid situations\, including: managing an unresponsive casualty\, CPR\, choking\, shock\, wounds and bleeding and minor injuries. £120.00 ( Inclusive of VAT). \n 
URL:https://prestigesafetyservices.com/courses/emergency-first-aid-at-work-training-level-3-64/
LOCATION:Prestige Safety Services\, The Gables Business Court\, Belton Road Doncaster\, South Yorkshire\, DN9 1JL\, United Kingdom
CATEGORIES:Emergency First Aid - Level 3
ATTACH;FMTTYPE=image/png:https://prestigesafetyservices.com/wp-content/uploads/2024/09/First-Aid-Training-.png
ORGANIZER;CN="Prestige Safety Services":MAILTO:info@prestigesafetyservices.com
END:VEVENT
BEGIN:VEVENT
DTSTART;TZID=UTC:20260724T093000
DTEND;TZID=UTC:20260724T123000
DTSTAMP:20260424T082428
CREATED:20251107T124659Z
LAST-MODIFIED:20251107T124751Z
UID:3524-1784885400-1784896200@prestigesafetyservices.com
SUMMARY:Fire Safety Awareness Training – Level 1
DESCRIPTION:Over a half day period\, Learners will learn basic fire safety principles\, including: causes of fires in the workplace\, basic fire safety duties and responsibilities\, principles of fire risk control\, safe use of portable fire-fighting equipment and more. \nThis regulated and nationally recognised qualification provides Learners with the opportunity to develop their fire safety awareness to help ensure that they are keeping themselves and others safe at all times in the workplace. \nIntended Audience \nThe Level 1 Award in Fire Safety Awareness (QCF) qualification is designed for those who want to increase their awareness of fire safety in the workplace. \n  \n£84.00 (inclusive of VAT) \n 
URL:https://prestigesafetyservices.com/courses/fire-safety-awareness-training-level-1-20/
LOCATION:Prestige Safety Services\, The Gables Business Court\, Belton Road Doncaster\, South Yorkshire\, DN9 1JL\, United Kingdom
CATEGORIES:Fire Safety Awareness
ATTACH;FMTTYPE=image/jpeg:https://prestigesafetyservices.com/wp-content/uploads/2024/09/fire-safety.jpg
ORGANIZER;CN="Prestige Safety Services":MAILTO:info@prestigesafetyservices.com
END:VEVENT
BEGIN:VEVENT
DTSTART;TZID=UTC:20260806T093000
DTEND;TZID=UTC:20260806T163000
DTSTAMP:20260424T082428
CREATED:20251107T130116Z
LAST-MODIFIED:20251107T130116Z
UID:3527-1786008600-1786033800@prestigesafetyservices.com
SUMMARY:Emergency First Aid at Work Training – Level 3
DESCRIPTION:During this 1 day course\, learners will develop the skills and knowledge needed to deal with a range of emergency first aid situations\, including: managing an unresponsive casualty\, CPR\, choking\, shock\, wounds and bleeding and minor injuries. £120.00 ( Inclusive of VAT). \n 
URL:https://prestigesafetyservices.com/courses/emergency-first-aid-at-work-training-level-3-65/
LOCATION:Prestige Safety Services\, The Gables Business Court\, Belton Road Doncaster\, South Yorkshire\, DN9 1JL\, United Kingdom
CATEGORIES:Emergency First Aid - Level 3
ATTACH;FMTTYPE=image/png:https://prestigesafetyservices.com/wp-content/uploads/2024/09/First-Aid-Training-.png
ORGANIZER;CN="Prestige Safety Services":MAILTO:info@prestigesafetyservices.com
END:VEVENT
BEGIN:VEVENT
DTSTART;TZID=UTC:20260814T093000
DTEND;TZID=UTC:20260814T163000
DTSTAMP:20260424T082428
CREATED:20251212T141645Z
LAST-MODIFIED:20260106T132249Z
UID:3572-1786699800-1786725000@prestigesafetyservices.com
SUMMARY:Emergency Paediatric First Aid Training – Level 3
DESCRIPTION:During this 1 day course\, Learners will develop the skills and knowledge needed to deal with a range of paediatric first aid situations\, including: managing an unresponsive infant or child\, CPR\, choking\, seizures\, external bleeding and more.
URL:https://prestigesafetyservices.com/courses/emergency-paediatric-first-aid-training-level-3-16/
LOCATION:Prestige Safety Services\, The Gables Business Court\, Belton Road Doncaster\, South Yorkshire\, DN9 1JL\, United Kingdom
ATTACH;FMTTYPE=image/jpeg:https://prestigesafetyservices.com/wp-content/uploads/2023/08/PSS_About-Us_Hero.jpg
ORGANIZER;CN="Prestige Safety Services":MAILTO:info@prestigesafetyservices.com
END:VEVENT
BEGIN:VEVENT
DTSTART;TZID=UTC:20260828T093000
DTEND;TZID=UTC:20260828T123000
DTSTAMP:20260424T082428
CREATED:20251107T130421Z
LAST-MODIFIED:20251203T153441Z
UID:3530-1787909400-1787920200@prestigesafetyservices.com
SUMMARY:Fire Safety Awareness Training – Level 1
DESCRIPTION:Over a half day period\, Learners will learn basic fire safety principles\, including: causes of fires in the workplace\, basic fire safety duties and responsibilities\, principles of fire risk control\, safe use of portable fire-fighting equipment and more. \nThis regulated and nationally recognised qualification provides Learners with the opportunity to develop their fire safety awareness to help ensure that they are keeping themselves and others safe at all times in the workplace. \nIntended Audience \nThe Level 1 Award in Fire Safety Awareness (QCF) qualification is designed for those who want to increase their awareness of fire safety in the workplace. \n  \n£84.00 (inclusive of VAT) \n 
URL:https://prestigesafetyservices.com/courses/fire-safety-awareness-training-level-1-21/
LOCATION:Prestige Safety Services\, The Gables Business Court\, Belton Road Doncaster\, South Yorkshire\, DN9 1JL\, United Kingdom
ATTACH;FMTTYPE=image/jpeg:https://prestigesafetyservices.com/wp-content/uploads/2024/09/fire-safety.jpg
ORGANIZER;CN="Prestige Safety Services":MAILTO:info@prestigesafetyservices.com
END:VEVENT
BEGIN:VEVENT
DTSTART;TZID=UTC:20260923T093000
DTEND;TZID=UTC:20260923T163000
DTSTAMP:20260424T082428
CREATED:20251107T130715Z
LAST-MODIFIED:20251107T130715Z
UID:3532-1790155800-1790181000@prestigesafetyservices.com
SUMMARY:Emergency First Aid at Work Training – Level 3
DESCRIPTION:During this 1 day course\, learners will develop the skills and knowledge needed to deal with a range of emergency first aid situations\, including: managing an unresponsive casualty\, CPR\, choking\, shock\, wounds and bleeding and minor injuries. £120.00 ( Inclusive of VAT). \n 
URL:https://prestigesafetyservices.com/courses/emergency-first-aid-at-work-training-level-3-66/
LOCATION:Prestige Safety Services\, The Gables Business Court\, Belton Road Doncaster\, South Yorkshire\, DN9 1JL\, United Kingdom
CATEGORIES:Emergency First Aid - Level 3
ATTACH;FMTTYPE=image/png:https://prestigesafetyservices.com/wp-content/uploads/2024/09/First-Aid-Training-.png
ORGANIZER;CN="Prestige Safety Services":MAILTO:info@prestigesafetyservices.com
END:VEVENT
BEGIN:VEVENT
DTSTART;TZID=UTC:20260925T093000
DTEND;TZID=UTC:20260925T123000
DTSTAMP:20260424T082428
CREATED:20251107T131117Z
LAST-MODIFIED:20251107T131117Z
UID:3535-1790328600-1790339400@prestigesafetyservices.com
SUMMARY:Fire Safety Awareness Training – Level 1
DESCRIPTION:Over a half day period\, Learners will learn basic fire safety principles\, including: causes of fires in the workplace\, basic fire safety duties and responsibilities\, principles of fire risk control\, safe use of portable fire-fighting equipment and more. \nThis regulated and nationally recognised qualification provides Learners with the opportunity to develop their fire safety awareness to help ensure that they are keeping themselves and others safe at all times in the workplace. \nIntended Audience \nThe Level 1 Award in Fire Safety Awareness (QCF) qualification is designed for those who want to increase their awareness of fire safety in the workplace. \n  \n£84.00 (inclusive of VAT) \n 
URL:https://prestigesafetyservices.com/courses/fire-safety-awareness-training-level-1-22/
LOCATION:Prestige Safety Services\, The Gables Business Court\, Belton Road Doncaster\, South Yorkshire\, DN9 1JL\, United Kingdom
ATTACH;FMTTYPE=image/jpeg:https://prestigesafetyservices.com/wp-content/uploads/2024/09/fire-safety.jpg
ORGANIZER;CN="Prestige Safety Services":MAILTO:info@prestigesafetyservices.com
END:VEVENT
BEGIN:VEVENT
DTSTART;TZID=UTC:20261009T093000
DTEND;TZID=UTC:20261009T163000
DTSTAMP:20260424T082428
CREATED:20251107T131552Z
LAST-MODIFIED:20251107T131552Z
UID:3539-1791538200-1791563400@prestigesafetyservices.com
SUMMARY:Emergency First Aid at Work Training – Level 3
DESCRIPTION:During this 1 day course\, learners will develop the skills and knowledge needed to deal with a range of emergency first aid situations\, including: managing an unresponsive casualty\, CPR\, choking\, shock\, wounds and bleeding and minor injuries. £120.00 ( Inclusive of VAT). \n 
URL:https://prestigesafetyservices.com/courses/emergency-first-aid-at-work-training-level-3-67/
LOCATION:Prestige Safety Services\, The Gables Business Court\, Belton Road Doncaster\, South Yorkshire\, DN9 1JL\, United Kingdom
CATEGORIES:Emergency First Aid - Level 3,First Aid
ATTACH;FMTTYPE=image/png:https://prestigesafetyservices.com/wp-content/uploads/2024/09/First-Aid-Training-.png
ORGANIZER;CN="Prestige Safety Services":MAILTO:info@prestigesafetyservices.com
END:VEVENT
BEGIN:VEVENT
DTSTART;TZID=UTC:20261023T093000
DTEND;TZID=UTC:20261023T123000
DTSTAMP:20260424T082428
CREATED:20251107T131758Z
LAST-MODIFIED:20260205T151752Z
UID:3542-1792747800-1792758600@prestigesafetyservices.com
SUMMARY:Fire Safety Awareness Training – Level 1
DESCRIPTION:Over a half day period\, Learners will learn basic fire safety principles\, including: causes of fires in the workplace\, basic fire safety duties and responsibilities\, principles of fire risk control\, safe use of portable fire-fighting equipment and more. \nThis regulated and nationally recognised qualification provides Learners with the opportunity to develop their fire safety awareness to help ensure that they are keeping themselves and others safe at all times in the workplace. \nIntended Audience \nThe Level 1 Award in Fire Safety Awareness (QCF) qualification is designed for those who want to increase their awareness of fire safety in the workplace. \n  \n£84.00 (inclusive of VAT) \n 
URL:https://prestigesafetyservices.com/courses/fire-safety-awareness-training-level-1-23/
LOCATION:Prestige Safety Services\, The Gables Business Court\, Belton Road Doncaster\, South Yorkshire\, DN9 1JL\, United Kingdom
CATEGORIES:Fire Safety Awareness
ATTACH;FMTTYPE=image/jpeg:https://prestigesafetyservices.com/wp-content/uploads/2024/09/fire-safety.jpg
ORGANIZER;CN="Prestige Safety Services":MAILTO:info@prestigesafetyservices.com
END:VEVENT
BEGIN:VEVENT
DTSTART;TZID=UTC:20261104T093000
DTEND;TZID=UTC:20261104T163000
DTSTAMP:20260424T082428
CREATED:20251212T141840Z
LAST-MODIFIED:20251212T141840Z
UID:3575-1793784600-1793809800@prestigesafetyservices.com
SUMMARY:Emergency Paediatric First Aid Training – Level 3
DESCRIPTION:During this 1 day course\, Learners will develop the skills and knowledge needed to deal with a range of paediatric first aid situations\, including: managing an unresponsive infant or child\, CPR\, choking\, seizures\, external bleeding and more.
URL:https://prestigesafetyservices.com/courses/emergency-paediatric-first-aid-training-level-3-17/
LOCATION:Prestige Safety Services\, The Gables Business Court\, Belton Road Doncaster\, South Yorkshire\, DN9 1JL\, United Kingdom
ATTACH;FMTTYPE=image/jpeg:https://prestigesafetyservices.com/wp-content/uploads/2023/08/PSS_About-Us_Hero.jpg
ORGANIZER;CN="Prestige Safety Services":MAILTO:info@prestigesafetyservices.com
END:VEVENT
BEGIN:VEVENT
DTSTART;TZID=UTC:20261118T093000
DTEND;TZID=UTC:20261118T163000
DTSTAMP:20260424T082428
CREATED:20251107T132019Z
LAST-MODIFIED:20251107T132019Z
UID:3545-1794994200-1795019400@prestigesafetyservices.com
SUMMARY:Emergency First Aid at Work Training – Level 3
DESCRIPTION:During this 1 day course\, learners will develop the skills and knowledge needed to deal with a range of emergency first aid situations\, including: managing an unresponsive casualty\, CPR\, choking\, shock\, wounds and bleeding and minor injuries. £120.00 ( Inclusive of VAT). \n 
URL:https://prestigesafetyservices.com/courses/emergency-first-aid-at-work-training-level-3-68/
LOCATION:Prestige Safety Services\, The Gables Business Court\, Belton Road Doncaster\, South Yorkshire\, DN9 1JL\, United Kingdom
CATEGORIES:Emergency First Aid - Level 3,First Aid
ATTACH;FMTTYPE=image/png:https://prestigesafetyservices.com/wp-content/uploads/2024/09/First-Aid-Training-.png
ORGANIZER;CN="Prestige Safety Services":MAILTO:info@prestigesafetyservices.com
END:VEVENT
BEGIN:VEVENT
DTSTART;TZID=UTC:20261127T093000
DTEND;TZID=UTC:20261127T123000
DTSTAMP:20260424T082428
CREATED:20251107T132256Z
LAST-MODIFIED:20251107T132256Z
UID:3548-1795771800-1795782600@prestigesafetyservices.com
SUMMARY:Fire Safety Awareness Training – Level 1
DESCRIPTION:Over a half day period\, Learners will learn basic fire safety principles\, including: causes of fires in the workplace\, basic fire safety duties and responsibilities\, principles of fire risk control\, safe use of portable fire-fighting equipment and more. \nThis regulated and nationally recognised qualification provides Learners with the opportunity to develop their fire safety awareness to help ensure that they are keeping themselves and others safe at all times in the workplace. \nIntended Audience \nThe Level 1 Award in Fire Safety Awareness (QCF) qualification is designed for those who want to increase their awareness of fire safety in the workplace. \n  \n£84.00 (inclusive of VAT) \n 
URL:https://prestigesafetyservices.com/courses/fire-safety-awareness-training-level-1-24/
LOCATION:Prestige Safety Services\, The Gables Business Court\, Belton Road Doncaster\, South Yorkshire\, DN9 1JL\, United Kingdom
CATEGORIES:Fire Safety Awareness
ATTACH;FMTTYPE=image/jpeg:https://prestigesafetyservices.com/wp-content/uploads/2024/09/fire-safety.jpg
ORGANIZER;CN="Prestige Safety Services":MAILTO:info@prestigesafetyservices.com
END:VEVENT
BEGIN:VEVENT
DTSTART;TZID=UTC:20261202T093000
DTEND;TZID=UTC:20261202T163000
DTSTAMP:20260424T082428
CREATED:20251107T132621Z
LAST-MODIFIED:20251107T132621Z
UID:3551-1796203800-1796229000@prestigesafetyservices.com
SUMMARY:Emergency First Aid at Work Training – Level 3
DESCRIPTION:During this 1 day course\, learners will develop the skills and knowledge needed to deal with a range of emergency first aid situations\, including: managing an unresponsive casualty\, CPR\, choking\, shock\, wounds and bleeding and minor injuries. £120.00 ( Inclusive of VAT). \n 
URL:https://prestigesafetyservices.com/courses/emergency-first-aid-at-work-training-level-3-69/
LOCATION:Prestige Safety Services\, The Gables Business Court\, Belton Road Doncaster\, South Yorkshire\, DN9 1JL\, United Kingdom
CATEGORIES:Emergency First Aid at Work - Level 3
ATTACH;FMTTYPE=image/png:https://prestigesafetyservices.com/wp-content/uploads/2024/09/First-Aid-Training-.png
ORGANIZER;CN="Prestige Safety Services":MAILTO:info@prestigesafetyservices.com
END:VEVENT
BEGIN:VEVENT
DTSTART;TZID=UTC:20261211T093000
DTEND;TZID=UTC:20261211T123000
DTSTAMP:20260424T082428
CREATED:20251107T132853Z
LAST-MODIFIED:20251107T132853Z
UID:3554-1796981400-1796992200@prestigesafetyservices.com
SUMMARY:Fire Safety Awareness Training – Level 1
DESCRIPTION:Over a half day period\, Learners will learn basic fire safety principles\, including: causes of fires in the workplace\, basic fire safety duties and responsibilities\, principles of fire risk control\, safe use of portable fire-fighting equipment and more. \nThis regulated and nationally recognised qualification provides Learners with the opportunity to develop their fire safety awareness to help ensure that they are keeping themselves and others safe at all times in the workplace. \nIntended Audience \nThe Level 1 Award in Fire Safety Awareness (QCF) qualification is designed for those who want to increase their awareness of fire safety in the workplace. \n  \n£84.00 (inclusive of VAT) \n 
URL:https://prestigesafetyservices.com/courses/fire-safety-awareness-training-level-1-25/
LOCATION:Prestige Safety Services\, The Gables Business Court\, Belton Road Doncaster\, South Yorkshire\, DN9 1JL\, United Kingdom
ATTACH;FMTTYPE=image/jpeg:https://prestigesafetyservices.com/wp-content/uploads/2024/09/fire-safety.jpg
ORGANIZER;CN="Prestige Safety Services":MAILTO:info@prestigesafetyservices.com
END:VEVENT
END:VCALENDAR